View In:
ArcGIS JavaScript
ArcGIS Online Map Viewer
ArcGIS Earth
Service Description: ZoningMosaic/Zoning_Mosaic
Name: ZoningMosaic/Zoning_Mosaic
Description:
Single Fused Map Cache: false
Extent:
XMin: 446241.2868959389
YMin: 1203780.048931015
XMax: 638878.7868959389
YMax: 1396476.048931015
Spatial Reference: 102659
(2237)
Initial Extent:
XMin: 446241.2868959389
YMin: 1203780.048931015
XMax: 638878.7868959389
YMax: 1396476.048931015
Spatial Reference: 102659
(2237)
Full Extent:
XMin: 446241.2868959389
YMin: 1203780.048931015
XMax: 638878.7868959389
YMax: 1396476.048931015
Spatial Reference: 102659
(2237)
Pixel Size X: 1.5
Pixel Size Y: 1.5
Band Count: 3
Pixel Type: U8
RasterFunction Infos: {"rasterFunctionInfos": [{
"name": "None",
"description": "",
"help": ""
}]}
Mensuration Capabilities: Basic
Inspection Capabilities:
Has Histograms: true
Has Colormap: false
Has Multi Dimensions : false
Rendering Rule:
Min Scale: 0
Max Scale: 0
Copyright Text:
Service Data Type: esriImageServiceDataTypeRGB
Min Values: 0, 0, 0
Max Values: 255, 255, 255
Mean Values: 158.90379648698, 159.31062222731, 154.13683062882
Standard Deviation Values: 28.10827610718, 27.924783685253, 28.051684144891
Object ID Field:
Fields:
None
Default Mosaic Method: Center
Allowed Mosaic Methods:
SortField:
SortValue: null
Mosaic Operator: First
Default Compression Quality: 75
Default Resampling Method: Bilinear
Max Record Count: null
Max Image Height: 4100
Max Image Width: 15000
Max Download Image Count: null
Max Mosaic Image Count: null
Allow Raster Function: true
Allow Copy: true
Allow Analysis: true
Allow Compute TiePoints: false
Supports Statistics: false
Supports Advanced Queries: false
Use StandardizedQueries: true
Raster Type Infos:
Name: Raster Dataset
Description: Supports all ArcGIS Raster Datasets
Help:
Has Raster Attribute Table: false
Edit Fields Info: null
Ownership Based AccessControl For Rasters: null
Child Resources:
Info
Histograms
Statistics
Key Properties
Legend
Raster Function Infos
Supported Operations:
Export Image
Identify
Measure
Compute Histograms
Compute Statistics Histograms
Get Samples
Compute Class Statistics
Query Boundary
Compute Pixel Location
Compute Angles
Validate
Project